BEGIN:VCALENDAR
VERSION:2.0
PRODID:-//wp-events-plugin.com//7.2.3.1//EN
TZID:Europe/Berlin
X-WR-TIMEZONE:Europe/Berlin
BEGIN:VEVENT
UID:283@schwimmen-lernen.de
DTSTART;TZID=Europe/Berlin:20260601T160000
DTEND;TZID=Europe/Berlin:20260606T170000
DTSTAMP:20260305T111404Z
URL:https://www.schwimmen-lernen.de/events/ferien-schwimmkurs-fuer-kinder-
 ab-5-bamberg-stegaurach-2/
SUMMARY:Ferien-Schwimmkurs für Kinder ab 5 Bamberg / Stegaurach
DESCRIPTION:Effektiv-Schwimmkurs für schnelle Erfolgserlebnisse für Kinde
 r ab 5 Jahren\nincl. Vorbereitung mittels der Lehrfilme von Dipl. Sportl. 
 Volker Baars \n
LOCATION:Therapiezentrum Stegaurach b. Bamberg\, Im Blumenhof 27\, Stegaura
 ch (bei Bamberg)\, 96135\, Deutschland
X-APPLE-STRUCTURED-LOCATION;VALUE=URI;X-ADDRESS=Im Blumenhof 27\, Stegaurac
 h (bei Bamberg)\, 96135\, Deutschland;X-APPLE-RADIUS=100;X-TITLE=Therapiez
 entrum Stegaurach b. Bamberg:geo:0,0
END:VEVENT
BEGIN:VTIMEZONE
TZID:Europe/Berlin
X-LIC-LOCATION:Europe/Berlin
BEGIN:DAYLIGHT
DTSTART:20260329T030000
TZOFFSETFROM:+0100
TZOFFSETTO:+0200
TZNAME:CEST
END:DAYLIGHT
END:VTIMEZONE
END:VCALENDAR